BEGIN:VCALENDAR
VERSION:2.0
PRODID:-//Communauté de communes du Pays du Neubourg - ECPv5.1.2//NONSGML v1.0//EN
CALSCALE:GREGORIAN
METHOD:PUBLISH
X-WR-CALNAME:Communauté de communes du Pays du Neubourg
X-ORIGINAL-URL:https://www.paysduneubourg.fr
X-WR-CALDESC:Évènements pour Communauté de communes du Pays du Neubourg
BEGIN:VTIMEZONE
TZID:Europe/Paris
BEGIN:DAYLIGHT
TZOFFSETFROM:+0100
TZOFFSETTO:+0200
TZNAME:CEST
DTSTART:20190331T010000
END:DAYLIGHT
BEGIN:STANDARD
TZOFFSETFROM:+0200
TZOFFSETTO:+0100
TZNAME:CET
DTSTART:20191027T010000
END:STANDARD
END:VTIMEZONE
BEGIN:VEVENT
DTSTART;TZID=Europe/Paris:20191121T150000
DTEND;TZID=Europe/Paris:20191121T180000
DTSTAMP:20260419T211959
CREATED:20191008T160852Z
LAST-MODIFIED:20191011T093318Z
UID:4921-1574348400-1574359200@www.paysduneubourg.fr
SUMMARY:Permanence enquête publique sur l’élaboration du schéma de cohérence territorial du Pays du Neubourg
DESCRIPTION:Un ou plusieurs membres de la commission d’enquête se tiendra à la disposition du public pour recevoir ses observations. \n
URL:https://www.paysduneubourg.fr/agenda/scot-4/
LOCATION:Mairie Saint Aubin dEcrosville\, 6 place de l'Eglise\, Saint Aubin d'Ecrosville\, 27110\, France
CATEGORIES:Accueil,Environnement,Réunion
ATTACH;FMTTYPE=image/jpeg:https://www.paysduneubourg.fr/wp-content/uploads/2019/10/Logo-SCOT.jpg
END:VEVENT
END:VCALENDAR